BEGIN:VCALENDAR
VERSION:2.0
PRODID:-//AECS - ECPv6.15.20//NONSGML v1.0//EN
CALSCALE:GREGORIAN
METHOD:PUBLISH
X-ORIGINAL-URL:https://aecs.net
X-WR-CALDESC:Events for AECS
REFRESH-INTERVAL;VALUE=DURATION:PT1H
X-Robots-Tag:noindex
X-PUBLISHED-TTL:PT1H
BEGIN:VTIMEZONE
TZID:Pacific/Auckland
BEGIN:STANDARD
TZOFFSETFROM:+1300
TZOFFSETTO:+1200
TZNAME:NZST
DTSTART:20240406T140000
END:STANDARD
BEGIN:DAYLIGHT
TZOFFSETFROM:+1200
TZOFFSETTO:+1300
TZNAME:NZDT
DTSTART:20240928T140000
END:DAYLIGHT
BEGIN:STANDARD
TZOFFSETFROM:+1300
TZOFFSETTO:+1200
TZNAME:NZST
DTSTART:20250405T140000
END:STANDARD
BEGIN:DAYLIGHT
TZOFFSETFROM:+1200
TZOFFSETTO:+1300
TZNAME:NZDT
DTSTART:20250927T140000
END:DAYLIGHT
BEGIN:STANDARD
TZOFFSETFROM:+1300
TZOFFSETTO:+1200
TZNAME:NZST
DTSTART:20260404T140000
END:STANDARD
BEGIN:DAYLIGHT
TZOFFSETFROM:+1200
TZOFFSETTO:+1300
TZNAME:NZDT
DTSTART:20260926T140000
END:DAYLIGHT
BEGIN:STANDARD
TZOFFSETFROM:+1300
TZOFFSETTO:+1200
TZNAME:NZST
DTSTART:20270403T140000
END:STANDARD
BEGIN:DAYLIGHT
TZOFFSETFROM:+1200
TZOFFSETTO:+1300
TZNAME:NZDT
DTSTART:20270925T140000
END:DAYLIGHT
END:VTIMEZONE
BEGIN:VEVENT
DTSTART;VALUE=DATE:20260305
DTEND;VALUE=DATE:20260307
DTSTAMP:20260424T033332
CREATED:20251229T015433Z
LAST-MODIFIED:20260301T225637Z
UID:20147-1772668800-1772841599@aecs.net
SUMMARY:Diesel Exhaust After Treatment (DMS1-4) | Auckland
DESCRIPTION:In the DMS1-4 training\, we will cover all aspects of Diesel exhaust after treatment including common faults by using scan tools and Scopes for Diesel exhaust after-treatment system diagnostics. Catalytic converters (Cat)\, Diesel particulate filters (DPF)\, Selective Catalytic Reductor (SCR)\, AdBlue dosing\, NOx\, how to spot illegally removed systems\, etc. We will be looking at normal values\, failures\, regeneration\, manual clean\, etc. \nThis seminar will be hands-on and theory and will be 100% applicable to your workshop. Learn more here.
URL:https://aecs.net/event/diesel-exhaust-after-treatment-dms1-4-auckland/
LOCATION:The Surrey Hotel\, 465 Great North Road\,Grey Lynn\, Auckland\, Tamaki Makaurau\, 1021\, New Zealand
CATEGORIES:Open Training
ATTACH;FMTTYPE=image/jpeg:https://aecs.net/wp-content/uploads/2021/07/aecs_dms14_1.jpg
ORGANIZER;CN="AECS":MAILTO:cunie@aecs.net
END:VEVENT
BEGIN:VEVENT
DTSTART;VALUE=DATE:20260303
DTEND;VALUE=DATE:20260305
DTSTAMP:20260424T033332
CREATED:20260121T010007Z
LAST-MODIFIED:20260201T223425Z
UID:20226-1772496000-1772668799@aecs.net
SUMMARY:Automotive Electronic Diagnostics (AED) | Auckland (NEWLY added!)
DESCRIPTION:The AED (Automotive Electronic Diagnostics) training is our most popular seminar. Designed to give you a thorough understanding of electronic diagnostics\, this practical seminar makes complex electronics simple to understand and easy to diagnose. \nLearn more here.
URL:https://aecs.net/event/automotive-electronic-diagnostics-aed-auckland-2/
LOCATION:The Surrey Hotel\, 465 Great North Road\,Grey Lynn\, Auckland\, Tamaki Makaurau\, 1021\, New Zealand
CATEGORIES:Open Training
ATTACH;FMTTYPE=image/jpeg:https://aecs.net/wp-content/uploads/2021/07/aecs_tranining_AED.jpg
ORGANIZER;CN="AECS":MAILTO:cunie@aecs.net
END:VEVENT
BEGIN:VEVENT
DTSTART;TZID=Pacific/Auckland:20250717T090000
DTEND;TZID=Pacific/Auckland:20250718T170000
DTSTAMP:20260424T033332
CREATED:20241120T204036Z
LAST-MODIFIED:20250323T223507Z
UID:18998-1752742800-1752858000@aecs.net
SUMMARY:Air-conditioning Systems (ECAC1-1) |  Christchurch
DESCRIPTION:In most garages air-conditioning maintenance is seen as not an option. When a vehicle is offered for repair with an aircon. failure the most common conclusion most garages seem to reach is to drop the vehicle off at the Aircon service guys for a re-gas.  \nIn many cases the recharge will not solve the problem\, it may take care of the normally long overdue regular maintenance the system requires but not a leaking system\, or an electronic fault. \nThis training on air-conditioning systems is uncluttered and focuses on making fault finding for any technician easy. There is no need to have any prior knowledge of air-conditioning system diagnostics. The aim is to get maximum results in the workshop without the need to invest in expensive equipment. \nLearn more here.
URL:https://aecs.net/event/air-conditioning-systems-ecac1-1-christchurch/
LOCATION:The Garden Hotel\, 110 Marshland Road\, Christchurch\, 8061
CATEGORIES:Open Training
ATTACH;FMTTYPE=image/jpeg:https://aecs.net/wp-content/uploads/2021/07/aecs_training_aircon_systems_ecac1-1.jpg
ORGANIZER;CN="AECS":MAILTO:cunie@aecs.net
END:VEVENT
BEGIN:VEVENT
DTSTART;TZID=Pacific/Auckland:20250528T090000
DTEND;TZID=Pacific/Auckland:20250529T170000
DTSTAMP:20260424T033332
CREATED:20241120T211610Z
LAST-MODIFIED:20250427T205440Z
UID:19038-1748422800-1748538000@aecs.net
SUMMARY:Diesel Exhaust After Treatment (DMS1-4) | Palmerston North
DESCRIPTION:In the DMS1-4 training\, we will cover all aspects of Diesel exhaust after treatment including common faults by using scan tools and Scopes for Diesel exhaust after-treatment system diagnostics. Catalytic converters (Cat)\, Diesel particulate filters (DPF)\, Selective Catalytic Reductor (SCR)\, AdBlue dosing\, NOx\, how to spot illegally removed systems\, etc. We will be looking at normal values\, failures\, regeneration\, manual clean\, etc. \nThis seminar will be hands-on and theory and will be 100% applicable to your workshop. \nLearn more here.
URL:https://aecs.net/event/diesel-exhaust-after-treatment-dms1-4-palmerston-north/
LOCATION:Bella Vista Motel Palmerston North\, 172/174 Fitzherbert Avenue\, Palmerston North\, Manauwatu\, 4410\, New Zealand
CATEGORIES:Open Training
ATTACH;FMTTYPE=image/jpeg:https://aecs.net/wp-content/uploads/2021/07/aecs_dms14_1.jpg
ORGANIZER;CN="AECS":MAILTO:cunie@aecs.net
END:VEVENT
BEGIN:VEVENT
DTSTART;TZID=Pacific/Auckland:20250508T090000
DTEND;TZID=Pacific/Auckland:20250509T170000
DTSTAMP:20260424T033332
CREATED:20241119T015239Z
LAST-MODIFIED:20250326T213320Z
UID:18981-1746694800-1746810000@aecs.net
SUMMARY:Automotive Electronic Diagnostics (AED) | Auckland
DESCRIPTION:The AED (Automotive Electronic Diagnostics) training is our most popular seminar. Designed to give you a thorough understanding of electronic diagnostics\, this practical seminar makes complex electronics simple to understand and easy to diagnose. Learn more here.
URL:https://aecs.net/event/automotive-electronic-diagnostics-aed-auckland/
LOCATION:The Surrey Hotel\, 465 Great North Road\,Grey Lynn\, Auckland\, Tamaki Makaurau\, 1021\, New Zealand
CATEGORIES:Open Training
ATTACH;FMTTYPE=image/jpeg:https://aecs.net/wp-content/uploads/2021/07/aecs_tranining_AED.jpg
ORGANIZER;CN="AECS":MAILTO:cunie@aecs.net
END:VEVENT
BEGIN:VEVENT
DTSTART;TZID=Pacific/Auckland:20250430T090000
DTEND;TZID=Pacific/Auckland:20250430T170000
DTSTAMP:20260424T033332
CREATED:20250130T022918Z
LAST-MODIFIED:20250414T234907Z
UID:19272-1746003600-1746032400@aecs.net
SUMMARY:COMPREHENSIVE SCOPE – LEVEL 3 (ATS1-3) | Hastings
DESCRIPTION:Comprehensive Scope Training – Level 3 seminar is designed for all ATS Scope users who have preferably completed at least the 2 day Comprehensive Scope Training – Level 1 (ATS1-1) seminar. This training seminar will teach you some super advanced high tech solutions. No extra purchases will need to be done\, this is to extend your ability with the ATS scope. \nLearn more here
URL:https://aecs.net/event/comprehensive-scope-level-3-ats1-3-hastings/
LOCATION:AECS HQ\, 897 Valley Rd\, Hastings\, Hawkes Bay\, 4174\, New Zealand
CATEGORIES:Open Training
ATTACH;FMTTYPE=image/jpeg:https://aecs.net/wp-content/uploads/2021/09/aecs_all_generations_6-scaled.jpg
ORGANIZER;CN="AECS":MAILTO:cunie@aecs.net
END:VEVENT
BEGIN:VEVENT
DTSTART;TZID=Pacific/Auckland:20250428T090000
DTEND;TZID=Pacific/Auckland:20250429T170000
DTSTAMP:20260424T033332
CREATED:20250130T021931Z
LAST-MODIFIED:20250323T223344Z
UID:19267-1745830800-1745946000@aecs.net
SUMMARY:EV BATTERY DIAGNOSTICS & REPAIR (EV 3-1) | Hastings
DESCRIPTION:This EV Battery Diagnostics and Repair seminar is super hands-on\, firstly we’ll look at live data recordings and real practical battery problem cases which we’ll analyse\, diagnose\, modify and then upload. The practical cases will be broken down to the greatest detail. This EV seminar will help you realise the capability of your skills combined with the power of your scan tool. \nWe cover the removal and the opening up of an HV battery\, including cooling\, ventilation and sealing of the battery pack. We cover in detail the breakers\, SMRs and rush resistor. \n\nYou will learn simple external diagnostic procedures and more complex internal diagnostics\, including mechanical impact protection inside the Leaf battery.\nSafety is our first priority\, we have added an AECS research paper made for first responders\, however modified for technicians. We’ll show you what you can touch when an EV’s or hybrid high voltage system is damaged.\nWe’ll look at battery-cell quality diagnostics\, we go through the testing and evaluation of individual batteries from Nissan and Renault and will be using scan tool data and oscilloscope data.\nWe’ll conduct interlock system analyses\, we’ll inspect every aspect of the interlock system\, where the breakpoints are and which ECU records an ‘open’ within an interlock system\, and what happens with that information.\n\nLearn more here
URL:https://aecs.net/event/ev-battery-diagnostics-repair-ev-3-1-hastings/
LOCATION:AECS HQ\, 897 Valley Rd\, Hastings\, Hawkes Bay\, 4174\, New Zealand
CATEGORIES:Open Training
ATTACH;FMTTYPE=image/jpeg:https://aecs.net/wp-content/uploads/2021/07/aecs_training_ev31_2.jpg
ORGANIZER;CN="AECS":MAILTO:cunie@aecs.net
END:VEVENT
END:VCALENDAR