BEGIN:VCALENDAR
VERSION:2.0
PRODID:-//AECS - ECPv6.15.20//NONSGML v1.0//EN
CALSCALE:GREGORIAN
METHOD:PUBLISH
X-WR-CALNAME:AECS
X-ORIGINAL-URL:https://aecs.net
X-WR-CALDESC:Events for AECS
REFRESH-INTERVAL;VALUE=DURATION:PT1H
X-Robots-Tag:noindex
X-PUBLISHED-TTL:PT1H
BEGIN:VTIMEZONE
TZID:Pacific/Auckland
BEGIN:STANDARD
TZOFFSETFROM:+1300
TZOFFSETTO:+1200
TZNAME:NZST
DTSTART:20250405T140000
END:STANDARD
BEGIN:DAYLIGHT
TZOFFSETFROM:+1200
TZOFFSETTO:+1300
TZNAME:NZDT
DTSTART:20250927T140000
END:DAYLIGHT
BEGIN:STANDARD
TZOFFSETFROM:+1300
TZOFFSETTO:+1200
TZNAME:NZST
DTSTART:20260404T140000
END:STANDARD
BEGIN:DAYLIGHT
TZOFFSETFROM:+1200
TZOFFSETTO:+1300
TZNAME:NZDT
DTSTART:20260926T140000
END:DAYLIGHT
BEGIN:STANDARD
TZOFFSETFROM:+1300
TZOFFSETTO:+1200
TZNAME:NZST
DTSTART:20270403T140000
END:STANDARD
BEGIN:DAYLIGHT
TZOFFSETFROM:+1200
TZOFFSETTO:+1300
TZNAME:NZDT
DTSTART:20270925T140000
END:DAYLIGHT
BEGIN:STANDARD
TZOFFSETFROM:+1300
TZOFFSETTO:+1200
TZNAME:NZST
DTSTART:20280401T140000
END:STANDARD
BEGIN:DAYLIGHT
TZOFFSETFROM:+1200
TZOFFSETTO:+1300
TZNAME:NZDT
DTSTART:20280923T140000
END:DAYLIGHT
END:VTIMEZONE
BEGIN:VEVENT
DTSTART;VALUE=DATE:20261007
DTEND;VALUE=DATE:20261010
DTSTAMP:20260424T173816
CREATED:20251229T221353Z
LAST-MODIFIED:20251229T221353Z
UID:20197-1791331200-1791590399@aecs.net
SUMMARY:Air-conditioning Systems (ECAC1-1) |  Wellington (fully booked)
DESCRIPTION:In most garages air-conditioning maintenance is seen as not an option. When a vehicle is offered for repair with an aircon. failure the most common conclusion most garages seem to reach is to drop the vehicle off at the Aircon service guys for a re-gas.  \nIn many cases the recharge will not solve the problem\, it may take care of the normally long overdue regular maintenance the system requires but not a leaking system\, or an electronic fault. \nThis training on air-conditioning systems is uncluttered and focuses on making fault finding for any technician easy. There is no need to have any prior knowledge of air-conditioning system diagnostics. The aim is to get maximum results in the workshop without the need to invest in expensive equipment. \nLearn more here.
URL:https://aecs.net/event/air-conditioning-systems-ecac1-1-wellington-fully-booked-2/
LOCATION:Wellington\, Wellington\, Wellington\, 6140\, New Zealand
CATEGORIES:Private Training
ATTACH;FMTTYPE=image/jpeg:https://aecs.net/wp-content/uploads/2021/07/aecs_training_aircon_systems_ecac1-1.jpg
ORGANIZER;CN="AECS":MAILTO:cunie@aecs.net
END:VEVENT
BEGIN:VEVENT
DTSTART;VALUE=DATE:20261012
DTEND;VALUE=DATE:20261015
DTSTAMP:20260424T173816
CREATED:20251229T221655Z
LAST-MODIFIED:20251229T221655Z
UID:20201-1791763200-1792022399@aecs.net
SUMMARY:Diesel Electronic Diagnostics (DED) | Wellington (fully booked)
DESCRIPTION:DED (Diesel Electronic Diagnostic) is designed to give the commercial vehicle or diesel technician a thorough insight into electronic fault diagnostics of diesel vehicles. This seminar makes the increasingly complex onboard vehicle electrical systems simple to understand and easy to diagnose. \nLearn more here.
URL:https://aecs.net/event/diesel-electronic-diagnostics-ded-wellington-fully-booked-2/
LOCATION:Wellington\, Wellington\, Wellington\, 6140\, New Zealand
CATEGORIES:Private Training
ATTACH;FMTTYPE=image/jpeg:https://aecs.net/wp-content/uploads/2021/07/aecs_ded_1.jpg
ORGANIZER;CN="AECS":MAILTO:cunie@aecs.net
END:VEVENT
BEGIN:VEVENT
DTSTART;VALUE=DATE:20261103
DTEND;VALUE=DATE:20261106
DTSTAMP:20260424T173817
CREATED:20251229T222115Z
LAST-MODIFIED:20251229T222115Z
UID:20205-1793664000-1793923199@aecs.net
SUMMARY:Air-conditioning Systems (ECAC1-1) |  Auckland (fully booked)
DESCRIPTION:In most garages air-conditioning maintenance is seen as not an option. When a vehicle is offered for repair with an aircon. failure the most common conclusion most garages seem to reach is to drop the vehicle off at the Aircon service guys for a re-gas.  \nIn many cases the recharge will not solve the problem\, it may take care of the normally long overdue regular maintenance the system requires but not a leaking system\, or an electronic fault. \nThis training on air-conditioning systems is uncluttered and focuses on making fault finding for any technician easy. There is no need to have any prior knowledge of air-conditioning system diagnostics. The aim is to get maximum results in the workshop without the need to invest in expensive equipment. \nLearn more here.
URL:https://aecs.net/event/air-conditioning-systems-ecac1-1-auckland-fully-booked-6/
LOCATION:Auckland\, Auckland\, Auckland\, New Zealand
CATEGORIES:Private Training
ATTACH;FMTTYPE=image/jpeg:https://aecs.net/wp-content/uploads/2021/07/aecs_training_aircon_systems_ecac1-1.jpg
ORGANIZER;CN="AECS":MAILTO:cunie@aecs.net
END:VEVENT
BEGIN:VEVENT
DTSTART;VALUE=DATE:20261123
DTEND;VALUE=DATE:20261128
DTSTAMP:20260424T173817
CREATED:20251229T223344Z
LAST-MODIFIED:20251229T223443Z
UID:20209-1795392000-1795823999@aecs.net
SUMMARY:Special training event |
DESCRIPTION:This full week training event is a corporate booking.
URL:https://aecs.net/event/special-training-event/
LOCATION:Tamaki Makaurau
CATEGORIES:Private Training
ATTACH;FMTTYPE=image/png:https://aecs.net/wp-content/uploads/2025/05/book-case-sm.png
ORGANIZER;CN="AECS":MAILTO:cunie@aecs.net
END:VEVENT
BEGIN:VEVENT
DTSTART;VALUE=DATE:20270125
DTEND;VALUE=DATE:20270130
DTSTAMP:20260424T173817
CREATED:20251229T224158Z
LAST-MODIFIED:20251229T224158Z
UID:20217-1800835200-1801267199@aecs.net
SUMMARY:Special training event |
DESCRIPTION:This full week training event is a corporate booking.
URL:https://aecs.net/event/special-training-event-2/
LOCATION:Tamaki Makaurau
CATEGORIES:Private Training
ATTACH;FMTTYPE=image/png:https://aecs.net/wp-content/uploads/2025/05/book-case-sm.png
ORGANIZER;CN="AECS":MAILTO:cunie@aecs.net
END:VEVENT
BEGIN:VEVENT
DTSTART;VALUE=DATE:20270312
DTEND;VALUE=DATE:20270314
DTSTAMP:20260424T173817
CREATED:20260121T012406Z
LAST-MODIFIED:20260121T012406Z
UID:20236-1804809600-1804982399@aecs.net
SUMMARY:Air-conditioning Systems (ECAC1-1) |  Auckland (fully booked)
DESCRIPTION:In most garages air-conditioning maintenance is seen as not an option. When a vehicle is offered for repair with an aircon. failure the most common conclusion most garages seem to reach is to drop the vehicle off at the Aircon service guys for a re-gas.  \nIn many cases the recharge will not solve the problem\, it may take care of the normally long overdue regular maintenance the system requires but not a leaking system\, or an electronic fault. \nThis training on air-conditioning systems is uncluttered and focuses on making fault finding for any technician easy. There is no need to have any prior knowledge of air-conditioning system diagnostics. The aim is to get maximum results in the workshop without the need to invest in expensive equipment. \nLearn more here.
URL:https://aecs.net/event/air-conditioning-systems-ecac1-1-auckland-fully-booked-7/
LOCATION:Auckland\, Auckland\, Auckland\, New Zealand
CATEGORIES:Private Training
ATTACH;FMTTYPE=image/jpeg:https://aecs.net/wp-content/uploads/2021/07/aecs_training_aircon_systems_ecac1-1.jpg
ORGANIZER;CN="AECS":MAILTO:cunie@aecs.net
END:VEVENT
END:VCALENDAR